BEGIN:VCALENDAR
VERSION:2.0
PRODID:-//wp-events-plugin.com//6.6.3//EN
TZID:Europe/Berlin
X-WR-TIMEZONE:Europe/Berlin
BEGIN:VEVENT
UID:0-138@kjg-paderborn.de
DTSTART;TZID=Europe/Berlin:20240514T180000
DTEND;TZID=Europe/Berlin:20240514T220000
DTSTAMP:20240131T080806Z
URL:https://kjg-paderborn.de/events/auffrischungsschulung-kinder-schuetzen
 -2/
SUMMARY:Auffrischungsschulung "Kinder schützen!"
DESCRIPTION:Anmeldung hier.
CATEGORIES:Prävention
END:VEVENT
BEGIN:VTIMEZONE
TZID:Europe/Berlin
X-LIC-LOCATION:Europe/Berlin
BEGIN:DAYLIGHT
DTSTART:20240331T030000
TZOFFSETFROM:+0100
TZOFFSETTO:+0200
TZNAME:CEST
END:DAYLIGHT
END:VTIMEZONE
END:VCALENDAR